BEGIN:VCALENDAR
VERSION:2.0
PRODID:-//King&#039;s College of the Philippines - ECPv6.8.2.1//NONSGML v1.0//EN
CALSCALE:GREGORIAN
METHOD:PUBLISH
X-ORIGINAL-URL:https://kcp.edu.ph
X-WR-CALDESC:Events for King&#039;s College of the Philippines
REFRESH-INTERVAL;VALUE=DURATION:PT1H
X-Robots-Tag:noindex
X-PUBLISHED-TTL:PT1H
BEGIN:VTIMEZONE
TZID:UTC
BEGIN:STANDARD
TZOFFSETFROM:+0000
TZOFFSETTO:+0000
TZNAME:UTC
DTSTART:20240101T000000
END:STANDARD
END:VTIMEZONE
BEGIN:VEVENT
DTSTART;TZID=UTC:20240716T080000
DTEND;TZID=UTC:20240716T170000
DTSTAMP:20260419T215832
CREATED:20240715T104555Z
LAST-MODIFIED:20240715T104555Z
UID:7323-1721116800-1721149200@kcp.edu.ph
SUMMARY:Sample event 2
DESCRIPTION:The quick brown fox jumps over the lazy dog at the corner of the house The quick brown fox jumps over the lazy dog at the corner of the house The quick brown fox jumps over the lazy dog at the corner of the house The quick brown fox jumps over the lazy dog at the corner of the houseThe quick brown fox jumps over the lazy dog at the corner of the house The quick brown fox jumps over the lazy dog at the corner of the house The quick brown fox jumps over the lazy dog at the corner of the house The quick brown fox jumps over the lazy dog at the corner of the house The quick brown fox jumps over the lazy dog at the corner of the houseThe quick brown fox jumps over the lazy dog at the corner of the house
URL:https://kcp.edu.ph/event/sample-event-2/
LOCATION:La Trinidad
CATEGORIES:Featured Event
ATTACH;FMTTYPE=image/jpeg:https://kcp.edu.ph/wp-content/uploads/2024/07/image-accordion-7.jpg
END:VEVENT
BEGIN:VEVENT
DTSTART;TZID=UTC:20240713T080000
DTEND;TZID=UTC:20240713T170000
DTSTAMP:20260419T215832
CREATED:20240715T104709Z
LAST-MODIFIED:20240716T014536Z
UID:7325-1720857600-1720890000@kcp.edu.ph
SUMMARY:Criminologist Licensure Examination Review
DESCRIPTION:The quick brown fox jumps over the lazy dog at the corner of the house The quick brown fox jumps over the lazy dog at the corner of the house The quick brown fox jumps over the lazy dog at the corner of the house The quick brown fox jumps over the lazy dog at the corner of the houseThe quick brown fox jumps over the lazy dog at the corner of the house The quick brown fox jumps over the lazy dog at the corner of the house The quick brown fox jumps over the lazy dog at the corner of the house The quick brown fox jumps over the lazy dog at the corner of the house The quick brown fox jumps over the lazy dog at the corner of the houseThe quick brown fox jumps over the lazy dog at the corner of the house
URL:https://kcp.edu.ph/event/criminologist-licensure-examination-review/
LOCATION:KCP Function Hall\, Pico Rd.\, La Trinidad\, Philippines
CATEGORIES:Featured Event
ATTACH;FMTTYPE=image/jpeg:https://kcp.edu.ph/wp-content/uploads/2024/07/team_17.jpg
END:VEVENT
END:VCALENDAR